BEGIN:VCALENDAR
VERSION:2.0
PRODID:-//India Cultural Center and Temple - ECPv6.15.20//NONSGML v1.0//EN
CALSCALE:GREGORIAN
METHOD:PUBLISH
X-ORIGINAL-URL:https://icctmemphis.org
X-WR-CALDESC:Events for India Cultural Center and Temple
REFRESH-INTERVAL;VALUE=DURATION:PT1H
X-Robots-Tag:noindex
X-PUBLISHED-TTL:PT1H
BEGIN:VTIMEZONE
TZID:America/Chicago
BEGIN:DAYLIGHT
TZOFFSETFROM:-0600
TZOFFSETTO:-0500
TZNAME:CDT
DTSTART:20180311T080000
END:DAYLIGHT
BEGIN:STANDARD
TZOFFSETFROM:-0500
TZOFFSETTO:-0600
TZNAME:CST
DTSTART:20181104T070000
END:STANDARD
BEGIN:DAYLIGHT
TZOFFSETFROM:-0600
TZOFFSETTO:-0500
TZNAME:CDT
DTSTART:20190310T080000
END:DAYLIGHT
BEGIN:STANDARD
TZOFFSETFROM:-0500
TZOFFSETTO:-0600
TZNAME:CST
DTSTART:20191103T070000
END:STANDARD
BEGIN:DAYLIGHT
TZOFFSETFROM:-0600
TZOFFSETTO:-0500
TZNAME:CDT
DTSTART:20200308T080000
END:DAYLIGHT
BEGIN:STANDARD
TZOFFSETFROM:-0500
TZOFFSETTO:-0600
TZNAME:CST
DTSTART:20201101T070000
END:STANDARD
BEGIN:DAYLIGHT
TZOFFSETFROM:-0600
TZOFFSETTO:-0500
TZNAME:CDT
DTSTART:20210314T080000
END:DAYLIGHT
BEGIN:STANDARD
TZOFFSETFROM:-0500
TZOFFSETTO:-0600
TZNAME:CST
DTSTART:20211107T070000
END:STANDARD
BEGIN:DAYLIGHT
TZOFFSETFROM:-0600
TZOFFSETTO:-0500
TZNAME:CDT
DTSTART:20220313T080000
END:DAYLIGHT
BEGIN:STANDARD
TZOFFSETFROM:-0500
TZOFFSETTO:-0600
TZNAME:CST
DTSTART:20221106T070000
END:STANDARD
BEGIN:DAYLIGHT
TZOFFSETFROM:-0600
TZOFFSETTO:-0500
TZNAME:CDT
DTSTART:20230312T080000
END:DAYLIGHT
BEGIN:STANDARD
TZOFFSETFROM:-0500
TZOFFSETTO:-0600
TZNAME:CST
DTSTART:20231105T070000
END:STANDARD
BEGIN:DAYLIGHT
TZOFFSETFROM:-0600
TZOFFSETTO:-0500
TZNAME:CDT
DTSTART:20240310T080000
END:DAYLIGHT
BEGIN:STANDARD
TZOFFSETFROM:-0500
TZOFFSETTO:-0600
TZNAME:CST
DTSTART:20241103T070000
END:STANDARD
BEGIN:DAYLIGHT
TZOFFSETFROM:-0600
TZOFFSETTO:-0500
TZNAME:CDT
DTSTART:20250309T080000
END:DAYLIGHT
BEGIN:STANDARD
TZOFFSETFROM:-0500
TZOFFSETTO:-0600
TZNAME:CST
DTSTART:20251102T070000
END:STANDARD
BEGIN:DAYLIGHT
TZOFFSETFROM:-0600
TZOFFSETTO:-0500
TZNAME:CDT
DTSTART:20260308T080000
END:DAYLIGHT
BEGIN:STANDARD
TZOFFSETFROM:-0500
TZOFFSETTO:-0600
TZNAME:CST
DTSTART:20261101T070000
END:STANDARD
BEGIN:DAYLIGHT
TZOFFSETFROM:-0600
TZOFFSETTO:-0500
TZNAME:CDT
DTSTART:20270314T080000
END:DAYLIGHT
BEGIN:STANDARD
TZOFFSETFROM:-0500
TZOFFSETTO:-0600
TZNAME:CST
DTSTART:20271107T070000
END:STANDARD
END:VTIMEZONE
BEGIN:VEVENT
DTSTART;VALUE=DATE:20260227
DTEND;VALUE=DATE:20260228
DTSTAMP:20260422T053433
CREATED:20260114T215955Z
LAST-MODIFIED:20260114T215955Z
UID:45656-1772150400-1772236799@icctmemphis.org
SUMMARY:Amalaki Ekadasi
DESCRIPTION:
URL:https://icctmemphis.org/event/amalaki-ekadasi/
CATEGORIES:Other
END:VEVENT
BEGIN:VEVENT
DTSTART;VALUE=DATE:20260217
DTEND;VALUE=DATE:20260218
DTSTAMP:20260422T053433
CREATED:20190225T012309Z
LAST-MODIFIED:20260114T012152Z
UID:8489-1771286400-1771372799@icctmemphis.org
SUMMARY:Phalguna Masam Starts
DESCRIPTION:
URL:https://icctmemphis.org/event/phalguna-masam-starts/
CATEGORIES:Other
END:VEVENT
BEGIN:VEVENT
DTSTART;VALUE=DATE:20260212
DTEND;VALUE=DATE:20260213
DTSTAMP:20260422T053433
CREATED:20260114T215858Z
LAST-MODIFIED:20260114T215858Z
UID:45654-1770854400-1770940799@icctmemphis.org
SUMMARY:Vijaya Ekadasi
DESCRIPTION:
URL:https://icctmemphis.org/event/vijaya-ekadasi/
CATEGORIES:Other
END:VEVENT
BEGIN:VEVENT
DTSTART;VALUE=DATE:20260128
DTEND;VALUE=DATE:20260129
DTSTAMP:20260422T053433
CREATED:20240115T222436Z
LAST-MODIFIED:20260114T215641Z
UID:30784-1769558400-1769644799@icctmemphis.org
SUMMARY:Bhishma / Jaya / Bhaimi Ekadasi
DESCRIPTION:
URL:https://icctmemphis.org/event/bhishma-ekadasi/
CATEGORIES:Other
END:VEVENT
BEGIN:VEVENT
DTSTART;VALUE=DATE:20260119
DTEND;VALUE=DATE:20260120
DTSTAMP:20260422T053433
CREATED:20200106T185022Z
LAST-MODIFIED:20260114T010921Z
UID:10526-1768780800-1768867199@icctmemphis.org
SUMMARY:Magha Masam Starts
DESCRIPTION:
URL:https://icctmemphis.org/event/magha-masam-starts/
CATEGORIES:Other
END:VEVENT
BEGIN:VEVENT
DTSTART;VALUE=DATE:20260113
DTEND;VALUE=DATE:20260114
DTSTAMP:20260422T053433
CREATED:20240115T221607Z
LAST-MODIFIED:20260114T012423Z
UID:30778-1768262400-1768348799@icctmemphis.org
SUMMARY:Shattila Ekadasi
DESCRIPTION:
URL:https://icctmemphis.org/event/shattila-ekadasi/
CATEGORIES:Other
END:VEVENT
BEGIN:VEVENT
DTSTART;VALUE=DATE:20250908
DTEND;VALUE=DATE:20250909
DTSTAMP:20260422T053433
CREATED:20200823T041910Z
LAST-MODIFIED:20250901T040637Z
UID:11913-1757289600-1757375999@icctmemphis.org
SUMMARY:Pitru Paksha Begins
DESCRIPTION:
URL:https://icctmemphis.org/event/pitru-paksha-begins/
CATEGORIES:Other
END:VEVENT
BEGIN:VEVENT
DTSTART;TZID=America/Chicago:20250830T110000
DTEND;TZID=America/Chicago:20250830T190000
DTSTAMP:20260422T053433
CREATED:20200818T185733Z
LAST-MODIFIED:20250629T174504Z
UID:11903-1756551600-1756580400@icctmemphis.org
SUMMARY:Ganesh Nimajjan
DESCRIPTION:
URL:https://icctmemphis.org/event/ganesh-nimajjan/
CATEGORIES:Other
END:VEVENT
BEGIN:VEVENT
DTSTART;TZID=America/Chicago:20250322T110000
DTEND;TZID=America/Chicago:20250322T160000
DTSTAMP:20260422T053433
CREATED:20190307T205706Z
LAST-MODIFIED:20250313T032221Z
UID:8731-1742641200-1742659200@icctmemphis.org
SUMMARY:Holi Celebrations
DESCRIPTION:
URL:https://icctmemphis.org/event/holi-celebrations/
CATEGORIES:Cultural,Other
END:VEVENT
BEGIN:VEVENT
DTSTART;TZID=America/Chicago:20250313T120000
DTEND;TZID=America/Chicago:20250313T120000
DTSTAMP:20260422T053433
CREATED:20211030T201143Z
LAST-MODIFIED:20250117T190052Z
UID:14121-1741867200-1741867200@icctmemphis.org
SUMMARY:Lunar Eclipse - Chandra Grahanam
DESCRIPTION:  \nLunar Eclipse – Chandra Grahanam  Thursday\, March 14\, 00:10 AM – Friday\, March 14\, 03:48 AM \n  \n  \nTemple Closes at Thursday\, March 13th\, 12 PM . \n 
URL:https://icctmemphis.org/event/lunareclipse/
CATEGORIES:Other
END:VEVENT
BEGIN:VEVENT
DTSTART;VALUE=DATE:20241231
DTEND;VALUE=DATE:20250101
DTSTAMP:20260422T053433
CREATED:20190102T223012Z
LAST-MODIFIED:20241207T214434Z
UID:8036-1735603200-1735689599@icctmemphis.org
SUMMARY:Pushya Masam Starts
DESCRIPTION:
URL:https://icctmemphis.org/event/pushya-masam-starts/
CATEGORIES:Other
END:VEVENT
BEGIN:VEVENT
DTSTART;TZID=America/Chicago:20241005T193000
DTEND;TZID=America/Chicago:20241005T220000
DTSTAMP:20260422T053433
CREATED:20240921T013034Z
LAST-MODIFIED:20240921T013034Z
UID:35084-1728156600-1728165600@icctmemphis.org
SUMMARY:Ras Garba - Day 2
DESCRIPTION:
URL:https://icctmemphis.org/event/ras-garba-day-2/
CATEGORIES:Other
END:VEVENT
BEGIN:VEVENT
DTSTART;TZID=America/Chicago:20240928T193000
DTEND;TZID=America/Chicago:20240928T220000
DTSTAMP:20260422T053433
CREATED:20240921T012748Z
LAST-MODIFIED:20240924T191108Z
UID:35079-1727551800-1727560800@icctmemphis.org
SUMMARY:Ras Garba - Day 1
DESCRIPTION:
URL:https://icctmemphis.org/event/ras-garba/
CATEGORIES:Other
END:VEVENT
BEGIN:VEVENT
DTSTART;TZID=America/Chicago:20240803T100000
DTEND;TZID=America/Chicago:20240803T123000
DTSTAMP:20260422T053433
CREATED:20240730T081339Z
LAST-MODIFIED:20240730T081339Z
UID:34310-1722679200-1722688200@icctmemphis.org
SUMMARY:Discourse by Swami Brahmanishtananda
DESCRIPTION:
URL:https://icctmemphis.org/event/brahmanishtananda-discourse/
CATEGORIES:Other
ATTACH;FMTTYPE=image/jpeg:https://icctmemphis.org/wp-content/uploads/2024/07/Brahmanishtananda.jpeg
END:VEVENT
BEGIN:VEVENT
DTSTART;TZID=America/Chicago:20240622T080000
DTEND;TZID=America/Chicago:20240622T121500
DTSTAMP:20260422T053433
CREATED:20220504T024151Z
LAST-MODIFIED:20240603T155121Z
UID:17291-1719043200-1719058500@icctmemphis.org
SUMMARY:International Yoga Day Celebrations
DESCRIPTION:
URL:https://icctmemphis.org/event/yoga-day/
CATEGORIES:Other
ATTACH;FMTTYPE=image/jpeg:https://icctmemphis.org/wp-content/uploads/2024/06/Intl_Yoga_Day24_Banner.jpeg
END:VEVENT
BEGIN:VEVENT
DTSTART;TZID=America/Chicago:20240615T180000
DTEND;TZID=America/Chicago:20240615T210000
DTSTAMP:20260422T053433
CREATED:20240524T171303Z
LAST-MODIFIED:20240604T035950Z
UID:33395-1718474400-1718485200@icctmemphis.org
SUMMARY:30 Anniversary Life Member Appreciation Dinner
DESCRIPTION:
URL:https://icctmemphis.org/event/life-member-appreciation/
CATEGORIES:Other
END:VEVENT
BEGIN:VEVENT
DTSTART;VALUE=DATE:20240121
DTEND;VALUE=DATE:20240122
DTSTAMP:20260422T053433
CREATED:20240115T221037Z
LAST-MODIFIED:20240115T222912Z
UID:30776-1705795200-1705881599@icctmemphis.org
SUMMARY:Putrada Ekadasi
DESCRIPTION:
URL:https://icctmemphis.org/event/putrada-ekadasi/
CATEGORIES:Other
END:VEVENT
BEGIN:VEVENT
DTSTART;TZID=America/Chicago:20230805T160000
DTEND;TZID=America/Chicago:20230805T193000
DTSTAMP:20260422T053433
CREATED:20230802T174005Z
LAST-MODIFIED:20230802T174017Z
UID:25068-1691251200-1691263800@icctmemphis.org
SUMMARY:ISKCON Bhagvad Gita Katha & Rath Yatra
DESCRIPTION:
URL:https://icctmemphis.org/event/iskcon-bhagvad-gita-katha-rath-yatra/
CATEGORIES:Other
ATTACH;FMTTYPE=image/jpeg:https://icctmemphis.org/wp-content/uploads/2023/08/Iskcon_RathYatra_05Aug23.jpg
END:VEVENT
BEGIN:VEVENT
DTSTART;VALUE=DATE:20230312
DTEND;VALUE=DATE:20230313
DTSTAMP:20260422T053433
CREATED:20220131T015927Z
LAST-MODIFIED:20230126T021109Z
UID:16599-1678579200-1678665599@icctmemphis.org
SUMMARY:Daylight Savings Begin
DESCRIPTION:
URL:https://icctmemphis.org/event/daylight-savings-begin/
CATEGORIES:Other
END:VEVENT
BEGIN:VEVENT
DTSTART;VALUE=DATE:20220805
DTEND;VALUE=DATE:20220808
DTSTAMP:20260422T053433
CREATED:20220703T024219Z
LAST-MODIFIED:20220711T012107Z
UID:17508-1659657600-1659916799@icctmemphis.org
SUMMARY:Kotilingalingita Poorna Kailasa Prastharam Sankusthapana Mahotsavam
DESCRIPTION:
URL:https://icctmemphis.org/event/kotilinga_sankusthapana/
CATEGORIES:Other,Religious (Annual)
END:VEVENT
BEGIN:VEVENT
DTSTART;VALUE=DATE:20211002
DTEND;VALUE=DATE:20211004
DTSTAMP:20260422T053433
CREATED:20180925T222252Z
LAST-MODIFIED:20210901T225503Z
UID:7413-1633201200-1633287599@icctmemphis.org
SUMMARY:Pitru Paksha Ends
DESCRIPTION:
URL:https://icctmemphis.org/event/pitru-paksha-ends/
CATEGORIES:Other
END:VEVENT
BEGIN:VEVENT
DTSTART;VALUE=DATE:20210605
DTEND;VALUE=DATE:20210606
DTSTAMP:20260422T053433
CREATED:20210423T181457Z
LAST-MODIFIED:20210423T181457Z
UID:13464-1622851200-1622937599@icctmemphis.org
SUMMARY:Apara Ekadasi
DESCRIPTION:
URL:https://icctmemphis.org/event/ekadasi-jun1/
CATEGORIES:Other
END:VEVENT
BEGIN:VEVENT
DTSTART;VALUE=DATE:20200114
DTEND;VALUE=DATE:20200115
DTSTAMP:20260422T053433
CREATED:20200106T184826Z
LAST-MODIFIED:20200106T184826Z
UID:10520-1578960000-1579046399@icctmemphis.org
SUMMARY:Uttarayana Punyakalam Starts
DESCRIPTION:
URL:https://icctmemphis.org/event/uttarayana-punyakalam-starts/
CATEGORIES:Other
END:VEVENT
BEGIN:VEVENT
DTSTART;TZID=America/Chicago:20191214T123000
DTEND;TZID=America/Chicago:20191214T140000
DTSTAMP:20260422T053433
CREATED:20191116T171733Z
LAST-MODIFIED:20191116T171733Z
UID:10243-1576326600-1576332000@icctmemphis.org
SUMMARY:Volunteer Appreciation Lunch
DESCRIPTION:
URL:https://icctmemphis.org/event/volunteer-appreciation-lunch/
CATEGORIES:Other
END:VEVENT
BEGIN:VEVENT
DTSTART;TZID=America/Chicago:20190812T183000
DTEND;TZID=America/Chicago:20190819T203000
DTSTAMP:20260422T053433
CREATED:20190806T215301Z
LAST-MODIFIED:20190806T215327Z
UID:9733-1565634600-1566246600@icctmemphis.org
SUMMARY:Spiritual Discourse by Sri Abhishek Chaitanya Swamiji
DESCRIPTION:
URL:https://icctmemphis.org/event/abhishek-chaitanya-2019/
CATEGORIES:Other
END:VEVENT
END:VCALENDAR