BEGIN:VCALENDAR
VERSION:2.0
PRODID:-//India Cultural Center and Temple - ECPv6.15.20//NONSGML v1.0//EN
CALSCALE:GREGORIAN
METHOD:PUBLISH
X-WR-CALNAME:India Cultural Center and Temple
X-ORIGINAL-URL:https://icctmemphis.org
X-WR-CALDESC:Events for India Cultural Center and Temple
REFRESH-INTERVAL;VALUE=DURATION:PT1H
X-Robots-Tag:noindex
X-PUBLISHED-TTL:PT1H
BEGIN:VTIMEZONE
TZID:America/Chicago
BEGIN:DAYLIGHT
TZOFFSETFROM:-0600
TZOFFSETTO:-0500
TZNAME:CDT
DTSTART:20230312T080000
END:DAYLIGHT
BEGIN:STANDARD
TZOFFSETFROM:-0500
TZOFFSETTO:-0600
TZNAME:CST
DTSTART:20231105T070000
END:STANDARD
BEGIN:DAYLIGHT
TZOFFSETFROM:-0600
TZOFFSETTO:-0500
TZNAME:CDT
DTSTART:20240310T080000
END:DAYLIGHT
BEGIN:STANDARD
TZOFFSETFROM:-0500
TZOFFSETTO:-0600
TZNAME:CST
DTSTART:20241103T070000
END:STANDARD
BEGIN:DAYLIGHT
TZOFFSETFROM:-0600
TZOFFSETTO:-0500
TZNAME:CDT
DTSTART:20250309T080000
END:DAYLIGHT
BEGIN:STANDARD
TZOFFSETFROM:-0500
TZOFFSETTO:-0600
TZNAME:CST
DTSTART:20251102T070000
END:STANDARD
END:VTIMEZONE
BEGIN:VEVENT
DTSTART;TZID=America/Chicago:20241031T090000
DTEND;TZID=America/Chicago:20241031T193000
DTSTAMP:20260422T105119
CREATED:20241018T020122Z
LAST-MODIFIED:20241018T020122Z
UID:35534-1730365200-1730403000@icctmemphis.org
SUMMARY:Deepavali / Diwali
DESCRIPTION:
URL:https://icctmemphis.org/event/deepavali-diwali/
CATEGORIES:Religious (Annual)
END:VEVENT
END:VCALENDAR