BEGIN:VCALENDAR
VERSION:2.0
PRODID:-//India Cultural Center and Temple - ECPv6.15.20//NONSGML v1.0//EN
CALSCALE:GREGORIAN
METHOD:PUBLISH
X-ORIGINAL-URL:https://icctmemphis.org
X-WR-CALDESC:Events for India Cultural Center and Temple
REFRESH-INTERVAL;VALUE=DURATION:PT1H
X-Robots-Tag:noindex
X-PUBLISHED-TTL:PT1H
BEGIN:VTIMEZONE
TZID:America/Chicago
BEGIN:DAYLIGHT
TZOFFSETFROM:-0600
TZOFFSETTO:-0500
TZNAME:CDT
DTSTART:20250309T080000
END:DAYLIGHT
BEGIN:STANDARD
TZOFFSETFROM:-0500
TZOFFSETTO:-0600
TZNAME:CST
DTSTART:20251102T070000
END:STANDARD
BEGIN:DAYLIGHT
TZOFFSETFROM:-0600
TZOFFSETTO:-0500
TZNAME:CDT
DTSTART:20260308T080000
END:DAYLIGHT
BEGIN:STANDARD
TZOFFSETFROM:-0500
TZOFFSETTO:-0600
TZNAME:CST
DTSTART:20261101T070000
END:STANDARD
BEGIN:DAYLIGHT
TZOFFSETFROM:-0600
TZOFFSETTO:-0500
TZNAME:CDT
DTSTART:20270314T080000
END:DAYLIGHT
BEGIN:STANDARD
TZOFFSETFROM:-0500
TZOFFSETTO:-0600
TZNAME:CST
DTSTART:20271107T070000
END:STANDARD
END:VTIMEZONE
BEGIN:VEVENT
DTSTART;TZID=America/Chicago:20260201T090000
DTEND;TZID=America/Chicago:20260201T110000
DTSTAMP:20260422T120839
CREATED:20200120T191213Z
LAST-MODIFIED:20260113T234832Z
UID:10664-1769936400-1769943600@icctmemphis.org
SUMMARY:Krishna Abhishekam
DESCRIPTION:
URL:https://icctmemphis.org/event/krishna-abhishekam-2/
CATEGORIES:Religious (Monthly)
END:VEVENT
BEGIN:VEVENT
DTSTART;TZID=America/Chicago:20260204T180000
DTEND;TZID=America/Chicago:20260204T200000
DTSTAMP:20260422T120839
CREATED:20260117T020958Z
LAST-MODIFIED:20260117T020958Z
UID:12304-1770228000-1770235200@icctmemphis.org
SUMMARY:Sankatahara Chaturthi - Ganesha Abhishekam
DESCRIPTION:
URL:https://icctmemphis.org/event/sankatahara-chaturthi-ganesha-abhishekam-2/
CATEGORIES:Religious (Monthly)
END:VEVENT
BEGIN:VEVENT
DTSTART;TZID=America/Chicago:20260207T110000
DTEND;TZID=America/Chicago:20260207T120000
DTSTAMP:20260422T120839
CREATED:20200120T194344Z
LAST-MODIFIED:20260113T234506Z
UID:10690-1770462000-1770465600@icctmemphis.org
SUMMARY:Navagraha Abhishekam
DESCRIPTION:
URL:https://icctmemphis.org/event/navagraha-abhishekam-2/
CATEGORIES:Religious (Monthly)
END:VEVENT
BEGIN:VEVENT
DTSTART;TZID=America/Chicago:20260208T090000
DTEND;TZID=America/Chicago:20260208T110000
DTSTAMP:20260422T120839
CREATED:20200301T172607Z
LAST-MODIFIED:20260113T235359Z
UID:10901-1770541200-1770548400@icctmemphis.org
SUMMARY:Narasimha Abhishekam
DESCRIPTION:
URL:https://icctmemphis.org/event/narasimha-abhishekam-2-2/
CATEGORIES:Religious (Monthly)
END:VEVENT
BEGIN:VEVENT
DTSTART;TZID=America/Chicago:20260212T180000
DTEND;TZID=America/Chicago:20260212T200000
DTSTAMP:20260422T120839
CREATED:20200120T191635Z
LAST-MODIFIED:20260114T011942Z
UID:10672-1770919200-1770926400@icctmemphis.org
SUMMARY:Kumbha Sankramanam - Ayyappa Abhishekam
DESCRIPTION:
URL:https://icctmemphis.org/event/kumbha-sankramanam-ayyappa-abhishekam-2/
CATEGORIES:Religious (Monthly)
END:VEVENT
BEGIN:VEVENT
DTSTART;TZID=America/Chicago:20260215T090000
DTEND;TZID=America/Chicago:20260215T110000
DTSTAMP:20260422T120839
CREATED:20191104T005724Z
LAST-MODIFIED:20260113T235652Z
UID:10205-1771146000-1771153200@icctmemphis.org
SUMMARY:Bhudevi Abhishekam
DESCRIPTION:
URL:https://icctmemphis.org/event/bhudevi-abhishekam-2/
CATEGORIES:Religious (Monthly)
END:VEVENT
BEGIN:VEVENT
DTSTART;TZID=America/Chicago:20260222T090000
DTEND;TZID=America/Chicago:20260222T103000
DTSTAMP:20260422T120839
CREATED:20200516T185225Z
LAST-MODIFIED:20260113T235746Z
UID:11616-1771750800-1771756200@icctmemphis.org
SUMMARY:Rama Abhishekam
DESCRIPTION:
URL:https://icctmemphis.org/event/rama-abhishekam-2/
CATEGORIES:Religious (Monthly)
END:VEVENT
BEGIN:VEVENT
DTSTART;TZID=America/Chicago:20260222T180000
DTEND;TZID=America/Chicago:20260222T200000
DTSTAMP:20260422T120839
CREATED:20200301T173609Z
LAST-MODIFIED:20260113T235920Z
UID:10913-1771783200-1771790400@icctmemphis.org
SUMMARY:Shashti - Subramanya Abhishekam
DESCRIPTION:
URL:https://icctmemphis.org/event/shashti-subramanya-abhishekam-2/
CATEGORIES:Religious (Monthly)
END:VEVENT
BEGIN:VEVENT
DTSTART;TZID=America/Chicago:20260223T180000
DTEND;TZID=America/Chicago:20260223T200000
DTSTAMP:20260422T120839
CREATED:20201121T233746Z
LAST-MODIFIED:20260114T000011Z
UID:12318-1771869600-1771876800@icctmemphis.org
SUMMARY:Kruthika - Subramanya Abhishekam
DESCRIPTION:
URL:https://icctmemphis.org/event/kruthika-subramanya-abhishekam-2/
CATEGORIES:Religious (Monthly)
END:VEVENT
END:VCALENDAR