BEGIN:VCALENDAR
VERSION:2.0
PRODID:-//India Cultural Center and Temple - ECPv6.15.20//NONSGML v1.0//EN
CALSCALE:GREGORIAN
METHOD:PUBLISH
X-ORIGINAL-URL:https://icctmemphis.org
X-WR-CALDESC:Events for India Cultural Center and Temple
REFRESH-INTERVAL;VALUE=DURATION:PT1H
X-Robots-Tag:noindex
X-PUBLISHED-TTL:PT1H
BEGIN:VTIMEZONE
TZID:America/Chicago
BEGIN:DAYLIGHT
TZOFFSETFROM:-0600
TZOFFSETTO:-0500
TZNAME:CDT
DTSTART:20250309T080000
END:DAYLIGHT
BEGIN:STANDARD
TZOFFSETFROM:-0500
TZOFFSETTO:-0600
TZNAME:CST
DTSTART:20251102T070000
END:STANDARD
BEGIN:DAYLIGHT
TZOFFSETFROM:-0600
TZOFFSETTO:-0500
TZNAME:CDT
DTSTART:20260308T080000
END:DAYLIGHT
BEGIN:STANDARD
TZOFFSETFROM:-0500
TZOFFSETTO:-0600
TZNAME:CST
DTSTART:20261101T070000
END:STANDARD
BEGIN:DAYLIGHT
TZOFFSETFROM:-0600
TZOFFSETTO:-0500
TZNAME:CDT
DTSTART:20270314T080000
END:DAYLIGHT
BEGIN:STANDARD
TZOFFSETFROM:-0500
TZOFFSETTO:-0600
TZNAME:CST
DTSTART:20271107T070000
END:STANDARD
END:VTIMEZONE
BEGIN:VEVENT
DTSTART;TZID=America/Chicago:20260306T180000
DTEND;TZID=America/Chicago:20260306T200000
DTSTAMP:20260422T103935
CREATED:20201006T203656Z
LAST-MODIFIED:20260114T000301Z
UID:12082-1772820000-1772827200@icctmemphis.org
SUMMARY:Sankatahara Chaturthi - Ganesha Abhishekam
DESCRIPTION:
URL:https://icctmemphis.org/event/sankatahara-chaturthi-3/
CATEGORIES:Religious (Monthly)
END:VEVENT
BEGIN:VEVENT
DTSTART;TZID=America/Chicago:20260307T110000
DTEND;TZID=America/Chicago:20260307T120000
DTSTAMP:20260422T103935
CREATED:20190225T161005Z
LAST-MODIFIED:20260113T234543Z
UID:8546-1772881200-1772884800@icctmemphis.org
SUMMARY:Navagraha Abhishekam
DESCRIPTION:
URL:https://icctmemphis.org/event/navagraha-abhishekam-3/
CATEGORIES:Religious (Monthly)
END:VEVENT
BEGIN:VEVENT
DTSTART;TZID=America/Chicago:20260308T090000
DTEND;TZID=America/Chicago:20260308T110000
DTSTAMP:20260422T103935
CREATED:20200301T165736Z
LAST-MODIFIED:20260113T234748Z
UID:10884-1772960400-1772967600@icctmemphis.org
SUMMARY:Krishna Abhishekam
DESCRIPTION:
URL:https://icctmemphis.org/event/krishna-abhishekam-3/
CATEGORIES:Religious (Monthly)
END:VEVENT
BEGIN:VEVENT
DTSTART;TZID=America/Chicago:20260314T180000
DTEND;TZID=America/Chicago:20260314T200000
DTSTAMP:20260422T103935
CREATED:20190225T012633Z
LAST-MODIFIED:20260114T012050Z
UID:8497-1773511200-1773518400@icctmemphis.org
SUMMARY:Meena Sankramanam - Ayyappa Abhishekam
DESCRIPTION:
URL:https://icctmemphis.org/event/meena-sankramanam-ayyappa-abhishekam/
CATEGORIES:Religious (Monthly)
END:VEVENT
BEGIN:VEVENT
DTSTART;TZID=America/Chicago:20260315T090000
DTEND;TZID=America/Chicago:20260315T110000
DTSTAMP:20260422T103935
CREATED:20200120T191502Z
LAST-MODIFIED:20260114T000154Z
UID:10668-1773565200-1773572400@icctmemphis.org
SUMMARY:Bhudevi Abhishekam
DESCRIPTION:
URL:https://icctmemphis.org/event/bhudevi-abhishekam-3/
CATEGORIES:Religious (Monthly)
END:VEVENT
BEGIN:VEVENT
DTSTART;TZID=America/Chicago:20260316T180000
DTEND;TZID=America/Chicago:20260316T200000
DTSTAMP:20260422T103935
CREATED:20200920T174245Z
LAST-MODIFIED:20260114T220814Z
UID:12006-1773684000-1773691200@icctmemphis.org
SUMMARY:Masa Shivaratri - Shiva Abhishekam
DESCRIPTION:
URL:https://icctmemphis.org/event/masa-shivaratri-shiva-abhishekam-3/
CATEGORIES:Religious (Monthly)
END:VEVENT
BEGIN:VEVENT
DTSTART;TZID=America/Chicago:20260323T180000
DTEND;TZID=America/Chicago:20260323T200000
DTSTAMP:20260422T103935
CREATED:20200301T165927Z
LAST-MODIFIED:20260114T221228Z
UID:10886-1774288800-1774296000@icctmemphis.org
SUMMARY:Kruthika - Subramanya Abhishekam
DESCRIPTION:
URL:https://icctmemphis.org/event/kruthika-subramanya-abhishekam-3/
CATEGORIES:Religious (Monthly)
END:VEVENT
BEGIN:VEVENT
DTSTART;TZID=America/Chicago:20260323T180000
DTEND;TZID=America/Chicago:20260323T200000
DTSTAMP:20260422T103935
CREATED:20200731T231534Z
LAST-MODIFIED:20260114T221240Z
UID:11872-1774288800-1774296000@icctmemphis.org
SUMMARY:Shashti - Subramanya Abhishekam
DESCRIPTION:
URL:https://icctmemphis.org/event/shashti-subramanya-abhishekam-3/
CATEGORIES:Religious (Monthly)
END:VEVENT
END:VCALENDAR