BEGIN:VCALENDAR
VERSION:2.0
PRODID:-//India Cultural Center and Temple - ECPv6.15.20//NONSGML v1.0//EN
CALSCALE:GREGORIAN
METHOD:PUBLISH
X-ORIGINAL-URL:https://icctmemphis.org
X-WR-CALDESC:Events for India Cultural Center and Temple
REFRESH-INTERVAL;VALUE=DURATION:PT1H
X-Robots-Tag:noindex
X-PUBLISHED-TTL:PT1H
BEGIN:VTIMEZONE
TZID:America/Chicago
BEGIN:DAYLIGHT
TZOFFSETFROM:-0600
TZOFFSETTO:-0500
TZNAME:CDT
DTSTART:20250309T080000
END:DAYLIGHT
BEGIN:STANDARD
TZOFFSETFROM:-0500
TZOFFSETTO:-0600
TZNAME:CST
DTSTART:20251102T070000
END:STANDARD
BEGIN:DAYLIGHT
TZOFFSETFROM:-0600
TZOFFSETTO:-0500
TZNAME:CDT
DTSTART:20260308T080000
END:DAYLIGHT
BEGIN:STANDARD
TZOFFSETFROM:-0500
TZOFFSETTO:-0600
TZNAME:CST
DTSTART:20261101T070000
END:STANDARD
BEGIN:DAYLIGHT
TZOFFSETFROM:-0600
TZOFFSETTO:-0500
TZNAME:CDT
DTSTART:20270314T080000
END:DAYLIGHT
BEGIN:STANDARD
TZOFFSETFROM:-0500
TZOFFSETTO:-0600
TZNAME:CST
DTSTART:20271107T070000
END:STANDARD
END:VTIMEZONE
BEGIN:VEVENT
DTSTART;TZID=America/Chicago:20260606T110000
DTEND;TZID=America/Chicago:20260606T120000
DTSTAMP:20260422T114505
CREATED:20190528T203931Z
LAST-MODIFIED:20260115T020704Z
UID:9249-1780743600-1780747200@icctmemphis.org
SUMMARY:Navagraha Abhishekam
DESCRIPTION:
URL:https://icctmemphis.org/event/navagraha-abhishekam-6/
CATEGORIES:Religious (Monthly)
END:VEVENT
BEGIN:VEVENT
DTSTART;TZID=America/Chicago:20260607T090000
DTEND;TZID=America/Chicago:20260607T110000
DTSTAMP:20260422T114505
CREATED:20260117T035817Z
LAST-MODIFIED:20260117T035817Z
UID:11602-1780822800-1780830000@icctmemphis.org
SUMMARY:Bhudevi Abhishekam
DESCRIPTION:
URL:https://icctmemphis.org/event/bhudevi-abhishekam-6/
CATEGORIES:Religious (Monthly)
END:VEVENT
BEGIN:VEVENT
DTSTART;TZID=America/Chicago:20260612T180000
DTEND;TZID=America/Chicago:20260612T200000
DTSTAMP:20260422T114505
CREATED:20200731T230732Z
LAST-MODIFIED:20260115T015735Z
UID:11859-1781287200-1781294400@icctmemphis.org
SUMMARY:Kruthika - Subramanya Abhishekam
DESCRIPTION:
URL:https://icctmemphis.org/event/kruthika-subramanya-abhishekam-7-2/
CATEGORIES:Religious (Monthly)
END:VEVENT
BEGIN:VEVENT
DTSTART;TZID=America/Chicago:20260613T180000
DTEND;TZID=America/Chicago:20260613T200000
DTSTAMP:20260422T114505
CREATED:20200516T183230Z
LAST-MODIFIED:20260114T221054Z
UID:11592-1781373600-1781380800@icctmemphis.org
SUMMARY:Masa Shivaratri - Shiva Abhishekam
DESCRIPTION:
URL:https://icctmemphis.org/event/masa-shivaratri-shiva-abhishekam-6/
CATEGORIES:Religious (Monthly)
END:VEVENT
BEGIN:VEVENT
DTSTART;TZID=America/Chicago:20260614T090000
DTEND;TZID=America/Chicago:20260614T110000
DTSTAMP:20260422T114505
CREATED:20260117T042346Z
LAST-MODIFIED:20260117T042459Z
UID:30056-1781427600-1781434800@icctmemphis.org
SUMMARY:Rama Abhishekam
DESCRIPTION:
URL:https://icctmemphis.org/event/rama-abhishekam-6/
CATEGORIES:Religious (Monthly)
END:VEVENT
BEGIN:VEVENT
DTSTART;TZID=America/Chicago:20260615T180000
DTEND;TZID=America/Chicago:20260615T200000
DTSTAMP:20260422T114505
CREATED:20200516T183046Z
LAST-MODIFIED:20260115T021231Z
UID:11588-1781546400-1781553600@icctmemphis.org
SUMMARY:Mithuna Sankramanam - Ayyappa Abhishekam
DESCRIPTION:
URL:https://icctmemphis.org/event/mithuna-sankramanam-ayyappa-abhishekam/
CATEGORIES:Religious (Monthly)
END:VEVENT
BEGIN:VEVENT
DTSTART;TZID=America/Chicago:20260619T180000
DTEND;TZID=America/Chicago:20260619T200000
DTSTAMP:20260422T114505
CREATED:20200304T185819Z
LAST-MODIFIED:20260114T221942Z
UID:11078-1781892000-1781899200@icctmemphis.org
SUMMARY:Shashti - Subramanya Abhishekam
DESCRIPTION:
URL:https://icctmemphis.org/event/shashti-subramanya-abhishekam-6-2/
CATEGORIES:Religious (Monthly)
END:VEVENT
BEGIN:VEVENT
DTSTART;TZID=America/Chicago:20260621T090000
DTEND;TZID=America/Chicago:20260621T110000
DTSTAMP:20260422T114505
CREATED:20260117T040627Z
LAST-MODIFIED:20260117T040627Z
UID:12000-1782032400-1782039600@icctmemphis.org
SUMMARY:Krishna Abhishekam
DESCRIPTION:
URL:https://icctmemphis.org/event/krishna-abhishekam-6/
CATEGORIES:Religious (Monthly)
END:VEVENT
END:VCALENDAR