BEGIN:VCALENDAR
VERSION:2.0
PRODID:-//India Cultural Center and Temple - ECPv6.15.20//NONSGML v1.0//EN
CALSCALE:GREGORIAN
METHOD:PUBLISH
X-ORIGINAL-URL:https://icctmemphis.org
X-WR-CALDESC:Events for India Cultural Center and Temple
REFRESH-INTERVAL;VALUE=DURATION:PT1H
X-Robots-Tag:noindex
X-PUBLISHED-TTL:PT1H
BEGIN:VTIMEZONE
TZID:America/Chicago
BEGIN:DAYLIGHT
TZOFFSETFROM:-0600
TZOFFSETTO:-0500
TZNAME:CDT
DTSTART:20250309T080000
END:DAYLIGHT
BEGIN:STANDARD
TZOFFSETFROM:-0500
TZOFFSETTO:-0600
TZNAME:CST
DTSTART:20251102T070000
END:STANDARD
BEGIN:DAYLIGHT
TZOFFSETFROM:-0600
TZOFFSETTO:-0500
TZNAME:CDT
DTSTART:20260308T080000
END:DAYLIGHT
BEGIN:STANDARD
TZOFFSETFROM:-0500
TZOFFSETTO:-0600
TZNAME:CST
DTSTART:20261101T070000
END:STANDARD
BEGIN:DAYLIGHT
TZOFFSETFROM:-0600
TZOFFSETTO:-0500
TZNAME:CDT
DTSTART:20270314T080000
END:DAYLIGHT
BEGIN:STANDARD
TZOFFSETFROM:-0500
TZOFFSETTO:-0600
TZNAME:CST
DTSTART:20271107T070000
END:STANDARD
END:VTIMEZONE
BEGIN:VEVENT
DTSTART;TZID=America/Chicago:20261101T090000
DTEND;TZID=America/Chicago:20261101T110000
DTSTAMP:20260422T192745
CREATED:20260117T042352Z
LAST-MODIFIED:20260117T042352Z
UID:11567-1793523600-1793530800@icctmemphis.org
SUMMARY:Rama Abhishekam
DESCRIPTION:
URL:https://icctmemphis.org/event/rama-abhishekam-11/
CATEGORIES:Religious (Monthly)
END:VEVENT
BEGIN:VEVENT
DTSTART;TZID=America/Chicago:20261107T110000
DTEND;TZID=America/Chicago:20261107T120000
DTSTAMP:20260422T192745
CREATED:20201006T203443Z
LAST-MODIFIED:20260115T020850Z
UID:12076-1794049200-1794052800@icctmemphis.org
SUMMARY:Navagraha Abhishekam
DESCRIPTION:
URL:https://icctmemphis.org/event/navagraha-abhishekam-11/
CATEGORIES:Religious (Monthly)
END:VEVENT
BEGIN:VEVENT
DTSTART;TZID=America/Chicago:20261107T180000
DTEND;TZID=America/Chicago:20261107T200000
DTSTAMP:20260422T192745
CREATED:20260117T043043Z
LAST-MODIFIED:20260117T043043Z
UID:12088-1794074400-1794081600@icctmemphis.org
SUMMARY:Masa Shivaratri - Shiva Abhishekam
DESCRIPTION:
URL:https://icctmemphis.org/event/masa-shivaratri-shiva-abhishekam-11/
CATEGORIES:Religious (Monthly)
END:VEVENT
BEGIN:VEVENT
DTSTART;TZID=America/Chicago:20261115T090000
DTEND;TZID=America/Chicago:20261115T110000
DTSTAMP:20260422T192745
CREATED:20260117T035833Z
LAST-MODIFIED:20260117T035833Z
UID:12084-1794733200-1794740400@icctmemphis.org
SUMMARY:Bhudevi Abhishekam
DESCRIPTION:
URL:https://icctmemphis.org/event/bhudevi-abhishekam-11/
CATEGORIES:Religious (Monthly)
END:VEVENT
BEGIN:VEVENT
DTSTART;TZID=America/Chicago:20261116T180000
DTEND;TZID=America/Chicago:20261116T200000
DTSTAMP:20260422T192745
CREATED:20201006T204110Z
LAST-MODIFIED:20260115T022951Z
UID:12092-1794852000-1794859200@icctmemphis.org
SUMMARY:Vrischika Sankramanam - Ayyappa Abhishekam
DESCRIPTION:
URL:https://icctmemphis.org/event/vrischika-sankramanam-ayyappa-abhishekam/
CATEGORIES:Religious (Monthly)
END:VEVENT
BEGIN:VEVENT
DTSTART;TZID=America/Chicago:20261122T090000
DTEND;TZID=America/Chicago:20261122T110000
DTSTAMP:20260422T192745
CREATED:20260117T040632Z
LAST-MODIFIED:20260117T040632Z
UID:12078-1795338000-1795345200@icctmemphis.org
SUMMARY:Krishna Abhishekam
DESCRIPTION:
URL:https://icctmemphis.org/event/krishna-abhishekam-11/
CATEGORIES:Religious (Monthly)
END:VEVENT
BEGIN:VEVENT
DTSTART;TZID=America/Chicago:20261127T180000
DTEND;TZID=America/Chicago:20261127T200000
DTSTAMP:20260422T192745
CREATED:20191104T005851Z
LAST-MODIFIED:20260115T195344Z
UID:10209-1795802400-1795809600@icctmemphis.org
SUMMARY:Sankatahara Chaturthi - Ganesha Abhishekam
DESCRIPTION:
URL:https://icctmemphis.org/event/sankatahara-chaturthi-11/
CATEGORIES:Religious (Monthly)
END:VEVENT
BEGIN:VEVENT
DTSTART;TZID=America/Chicago:20261129T110000
DTEND;TZID=America/Chicago:20261129T123000
DTSTAMP:20260422T192745
CREATED:20260117T044022Z
LAST-MODIFIED:20260117T044022Z
UID:13357-1795950000-1795955400@icctmemphis.org
SUMMARY:Naga Devatha Abhishekam
DESCRIPTION:
URL:https://icctmemphis.org/event/naga-devatha-abhishekam-11/
CATEGORIES:Religious (Monthly)
END:VEVENT
END:VCALENDAR