BEGIN:VCALENDAR
VERSION:2.0
PRODID:-//India Cultural Center and Temple - ECPv6.15.20//NONSGML v1.0//EN
CALSCALE:GREGORIAN
METHOD:PUBLISH
X-ORIGINAL-URL:https://icctmemphis.org
X-WR-CALDESC:Events for India Cultural Center and Temple
REFRESH-INTERVAL;VALUE=DURATION:PT1H
X-Robots-Tag:noindex
X-PUBLISHED-TTL:PT1H
BEGIN:VTIMEZONE
TZID:America/Chicago
BEGIN:DAYLIGHT
TZOFFSETFROM:-0600
TZOFFSETTO:-0500
TZNAME:CDT
DTSTART:20250309T080000
END:DAYLIGHT
BEGIN:STANDARD
TZOFFSETFROM:-0500
TZOFFSETTO:-0600
TZNAME:CST
DTSTART:20251102T070000
END:STANDARD
BEGIN:DAYLIGHT
TZOFFSETFROM:-0600
TZOFFSETTO:-0500
TZNAME:CDT
DTSTART:20260308T080000
END:DAYLIGHT
BEGIN:STANDARD
TZOFFSETFROM:-0500
TZOFFSETTO:-0600
TZNAME:CST
DTSTART:20261101T070000
END:STANDARD
BEGIN:DAYLIGHT
TZOFFSETFROM:-0600
TZOFFSETTO:-0500
TZNAME:CDT
DTSTART:20270314T080000
END:DAYLIGHT
BEGIN:STANDARD
TZOFFSETFROM:-0500
TZOFFSETTO:-0600
TZNAME:CST
DTSTART:20271107T070000
END:STANDARD
END:VTIMEZONE
BEGIN:VEVENT
DTSTART;TZID=America/Chicago:20261213T090000
DTEND;TZID=America/Chicago:20261213T110000
DTSTAMP:20260420T225826
CREATED:20260117T035834Z
LAST-MODIFIED:20260117T035834Z
UID:12314-1797152400-1797159600@icctmemphis.org
SUMMARY:Bhudevi Abhishekam
DESCRIPTION:
URL:https://icctmemphis.org/event/bhudevi-abhishekam-12/
CATEGORIES:Religious (Monthly)
END:VEVENT
BEGIN:VEVENT
DTSTART;TZID=America/Chicago:20261216T180000
DTEND;TZID=America/Chicago:20261216T200000
DTSTAMP:20260420T225826
CREATED:20181128T194422Z
LAST-MODIFIED:20260115T023013Z
UID:7850-1797444000-1797451200@icctmemphis.org
SUMMARY:Dhanus Sankramanam
DESCRIPTION:
URL:https://icctmemphis.org/event/dhanus-sankramanam/
CATEGORIES:Religious (Monthly)
END:VEVENT
BEGIN:VEVENT
DTSTART;TZID=America/Chicago:20261221T180000
DTEND;TZID=America/Chicago:20261221T200000
DTSTAMP:20260420T225826
CREATED:20201006T203626Z
LAST-MODIFIED:20260115T020338Z
UID:12080-1797876000-1797883200@icctmemphis.org
SUMMARY:Kruthika - Subramanya Abhishekam
DESCRIPTION:
URL:https://icctmemphis.org/event/kruthika-subramanya-abhishekam-12/
CATEGORIES:Religious (Monthly)
END:VEVENT
BEGIN:VEVENT
DTSTART;TZID=America/Chicago:20261227T090000
DTEND;TZID=America/Chicago:20261227T110000
DTSTAMP:20260420T225826
CREATED:20260117T040624Z
LAST-MODIFIED:20260117T040624Z
UID:12306-1798362000-1798369200@icctmemphis.org
SUMMARY:Krishna Abhishekam
DESCRIPTION:
URL:https://icctmemphis.org/event/krishna-abhishekam-12/
CATEGORIES:Religious (Monthly)
END:VEVENT
BEGIN:VEVENT
DTSTART;TZID=America/Chicago:20261227T180000
DTEND;TZID=America/Chicago:20261227T200000
DTSTAMP:20260420T225826
CREATED:20230125T043558Z
LAST-MODIFIED:20260115T014535Z
UID:20261-1798394400-1798401600@icctmemphis.org
SUMMARY:Sankatahara Chaturthi - Ganesha Abhishekam
DESCRIPTION:
URL:https://icctmemphis.org/event/sankatahara-chaturthi-12/
CATEGORIES:Religious (Monthly)
END:VEVENT
END:VCALENDAR