BEGIN:VCALENDAR
VERSION:2.0
PRODID:-//India Cultural Center and Temple - ECPv6.15.20//NONSGML v1.0//EN
CALSCALE:GREGORIAN
METHOD:PUBLISH
X-WR-CALNAME:India Cultural Center and Temple
X-ORIGINAL-URL:https://icctmemphis.org
X-WR-CALDESC:Events for India Cultural Center and Temple
REFRESH-INTERVAL;VALUE=DURATION:PT1H
X-Robots-Tag:noindex
X-PUBLISHED-TTL:PT1H
BEGIN:VTIMEZONE
TZID:America/Chicago
BEGIN:DAYLIGHT
TZOFFSETFROM:-0600
TZOFFSETTO:-0500
TZNAME:CDT
DTSTART:20250309T080000
END:DAYLIGHT
BEGIN:STANDARD
TZOFFSETFROM:-0500
TZOFFSETTO:-0600
TZNAME:CST
DTSTART:20251102T070000
END:STANDARD
BEGIN:DAYLIGHT
TZOFFSETFROM:-0600
TZOFFSETTO:-0500
TZNAME:CDT
DTSTART:20260308T080000
END:DAYLIGHT
BEGIN:STANDARD
TZOFFSETFROM:-0500
TZOFFSETTO:-0600
TZNAME:CST
DTSTART:20261101T070000
END:STANDARD
BEGIN:DAYLIGHT
TZOFFSETFROM:-0600
TZOFFSETTO:-0500
TZNAME:CDT
DTSTART:20270314T080000
END:DAYLIGHT
BEGIN:STANDARD
TZOFFSETFROM:-0500
TZOFFSETTO:-0600
TZNAME:CST
DTSTART:20271107T070000
END:STANDARD
END:VTIMEZONE
BEGIN:VEVENT
DTSTART;TZID=America/Chicago:20260615T180000
DTEND;TZID=America/Chicago:20260615T200000
DTSTAMP:20260420T112159
CREATED:20200516T183046Z
LAST-MODIFIED:20260115T021231Z
UID:11588-1781546400-1781553600@icctmemphis.org
SUMMARY:Mithuna Sankramanam - Ayyappa Abhishekam
DESCRIPTION:
URL:https://icctmemphis.org/event/mithuna-sankramanam-ayyappa-abhishekam/
CATEGORIES:Religious (Monthly)
END:VEVENT
BEGIN:VEVENT
DTSTART;TZID=America/Chicago:20260619T180000
DTEND;TZID=America/Chicago:20260619T200000
DTSTAMP:20260420T112159
CREATED:20200304T185819Z
LAST-MODIFIED:20260114T221942Z
UID:11078-1781892000-1781899200@icctmemphis.org
SUMMARY:Shashti - Subramanya Abhishekam
DESCRIPTION:
URL:https://icctmemphis.org/event/shashti-subramanya-abhishekam-6-2/
CATEGORIES:Religious (Monthly)
END:VEVENT
BEGIN:VEVENT
DTSTART;TZID=America/Chicago:20260621T090000
DTEND;TZID=America/Chicago:20260621T110000
DTSTAMP:20260420T112159
CREATED:20260117T040627Z
LAST-MODIFIED:20260117T040627Z
UID:12000-1782032400-1782039600@icctmemphis.org
SUMMARY:Krishna Abhishekam
DESCRIPTION:
URL:https://icctmemphis.org/event/krishna-abhishekam-6/
CATEGORIES:Religious (Monthly)
END:VEVENT
BEGIN:VEVENT
DTSTART;TZID=America/Chicago:20260625T000000
DTEND;TZID=America/Chicago:20260625T235900
DTSTAMP:20260420T112159
CREATED:20260117T033550Z
LAST-MODIFIED:20260117T033550Z
UID:13466-1782345600-1782431940@icctmemphis.org
SUMMARY:Pandava Nirjala Ekadasi
DESCRIPTION:
URL:https://icctmemphis.org/event/ekadasi-jun2/
CATEGORIES:Other
END:VEVENT
BEGIN:VEVENT
DTSTART;TZID=America/Chicago:20260703T180000
DTEND;TZID=America/Chicago:20260703T200000
DTSTAMP:20260420T112159
CREATED:20200516T184948Z
LAST-MODIFIED:20260115T013608Z
UID:11608-1783101600-1783108800@icctmemphis.org
SUMMARY:Sankatahara Chaturthi - Ganesha Abhishekam
DESCRIPTION:
URL:https://icctmemphis.org/event/sankatahara-chaturthi-7/
CATEGORIES:Religious (Monthly)
END:VEVENT
BEGIN:VEVENT
DTSTART;TZID=America/Chicago:20260704T110000
DTEND;TZID=America/Chicago:20260704T120000
DTSTAMP:20260420T112159
CREATED:20190528T211018Z
LAST-MODIFIED:20260115T021005Z
UID:9276-1783162800-1783166400@icctmemphis.org
SUMMARY:Navagraha Abhishekam
DESCRIPTION:
URL:https://icctmemphis.org/event/navagraha-abhishekam-7/
CATEGORIES:Religious (Monthly)
END:VEVENT
BEGIN:VEVENT
DTSTART;TZID=America/Chicago:20260705T090000
DTEND;TZID=America/Chicago:20260705T110000
DTSTAMP:20260420T112159
CREATED:20260117T035818Z
LAST-MODIFIED:20260117T035818Z
UID:11857-1783242000-1783249200@icctmemphis.org
SUMMARY:Bhudevi Abhishekam
DESCRIPTION:
URL:https://icctmemphis.org/event/bhudevi-abhishekam-7/
CATEGORIES:Religious (Monthly)
END:VEVENT
BEGIN:VEVENT
DTSTART;TZID=America/Chicago:20260710T000000
DTEND;TZID=America/Chicago:20260710T235900
DTSTAMP:20260420T112159
CREATED:20260117T034317Z
LAST-MODIFIED:20260117T034317Z
UID:13681-1783641600-1783727940@icctmemphis.org
SUMMARY:Yogini Ekadasi
DESCRIPTION:
URL:https://icctmemphis.org/event/ekadasi-jul1/
CATEGORIES:Other
END:VEVENT
BEGIN:VEVENT
DTSTART;TZID=America/Chicago:20260710T180000
DTEND;TZID=America/Chicago:20260710T200000
DTSTAMP:20260420T112159
CREATED:20200516T185117Z
LAST-MODIFIED:20260115T015755Z
UID:11612-1783706400-1783713600@icctmemphis.org
SUMMARY:Kruthika - Subramanya Abhishekam
DESCRIPTION:
URL:https://icctmemphis.org/event/kruthika-subramanya-abhishekam-7/
CATEGORIES:Religious (Monthly)
END:VEVENT
BEGIN:VEVENT
DTSTART;TZID=America/Chicago:20260712T090000
DTEND;TZID=America/Chicago:20260712T110000
DTSTAMP:20260420T112159
CREATED:20260117T042348Z
LAST-MODIFIED:20260117T042348Z
UID:17426-1783846800-1783854000@icctmemphis.org
SUMMARY:Rama Abhishekam
DESCRIPTION:
URL:https://icctmemphis.org/event/rama-abhishekam-7/
CATEGORIES:Religious (Monthly)
END:VEVENT
BEGIN:VEVENT
DTSTART;TZID=America/Chicago:20260712T180000
DTEND;TZID=America/Chicago:20260712T200000
DTSTAMP:20260420T112159
CREATED:20260117T043044Z
LAST-MODIFIED:20260117T043044Z
UID:11614-1783879200-1783886400@icctmemphis.org
SUMMARY:Masa Shivaratri - Shiva Abhishekam
DESCRIPTION:
URL:https://icctmemphis.org/event/masa-shivaratri-shiva-abhishekam-7/
CATEGORIES:Religious (Monthly)
END:VEVENT
BEGIN:VEVENT
DTSTART;VALUE=DATE:20260714
DTEND;VALUE=DATE:20260715
DTSTAMP:20260420T112159
CREATED:20210618T201420Z
LAST-MODIFIED:20260115T024144Z
UID:13675-1783987200-1784073599@icctmemphis.org
SUMMARY:Ashadha Masam Starts
DESCRIPTION:
URL:https://icctmemphis.org/event/ashadha-masam-starts/
CATEGORIES:Other
END:VEVENT
BEGIN:VEVENT
DTSTART;TZID=America/Chicago:20260716T180000
DTEND;TZID=America/Chicago:20260716T200000
DTSTAMP:20260420T112159
CREATED:20250524T175010Z
LAST-MODIFIED:20260115T023650Z
UID:39757-1784224800-1784232000@icctmemphis.org
SUMMARY:Karkataka Sankramanam - Ayyappa Abhishekam
DESCRIPTION:
URL:https://icctmemphis.org/event/karkataka-sankramanam-ayyappa-abhishekam/
CATEGORIES:Religious (Monthly)
END:VEVENT
BEGIN:VEVENT
DTSTART;TZID=America/Chicago:20260718T180000
DTEND;TZID=America/Chicago:20260718T200000
DTSTAMP:20260420T112159
CREATED:20220607T030434Z
LAST-MODIFIED:20260115T014908Z
UID:17424-1784397600-1784404800@icctmemphis.org
SUMMARY:Shashti – Subramanya Abhishekam
DESCRIPTION:
URL:https://icctmemphis.org/event/shashti-subramanya-abhishekam-7/
CATEGORIES:Religious (Monthly)
END:VEVENT
BEGIN:VEVENT
DTSTART;TZID=America/Chicago:20260719T090000
DTEND;TZID=America/Chicago:20260719T110000
DTSTAMP:20260420T112159
CREATED:20260117T040628Z
LAST-MODIFIED:20260117T040628Z
UID:11606-1784451600-1784458800@icctmemphis.org
SUMMARY:Krishna Abhishekam
DESCRIPTION:
URL:https://icctmemphis.org/event/krishna-abhishekam-7/
CATEGORIES:Religious (Monthly)
END:VEVENT
BEGIN:VEVENT
DTSTART;VALUE=DATE:20260724
DTEND;VALUE=DATE:20260725
DTSTAMP:20260420T112159
CREATED:20260117T034609Z
LAST-MODIFIED:20260117T034751Z
UID:13686-1784851200-1784937599@icctmemphis.org
SUMMARY:Deva-Sayani / Padma Ekadasi
DESCRIPTION:
URL:https://icctmemphis.org/event/ekadasi-jul2/
CATEGORIES:Other
END:VEVENT
BEGIN:VEVENT
DTSTART;TZID=America/Chicago:20260726T100000
DTEND;TZID=America/Chicago:20260726T140000
DTSTAMP:20260420T112159
CREATED:20260117T035829Z
LAST-MODIFIED:20260117T035829Z
UID:34015-1785060000-1785074400@icctmemphis.org
SUMMARY:Srinivasa Kalyanam (Samoohika)
DESCRIPTION:Srinivasa Kalyanam (Samoohika)\n\n\n\nSunday\, July 27th 2025 at 10:00 AM\n\nBECOME A SPONSOR\n\n\n\n\n\n  \n\n\n\nSponsorships\n\n\n\n\n\n\n\nEvent\nSponsorship\n\n\nSrinivasa Kalyanam\n$125\n\n\n*Kalyanam Vastram(Pattu Panche) for Venkateswara (only one sponsor allowed)\n$375\n\n\n*Kalyanam Vastram(Pattu Saree) for Bhudevi (only one sponsor allowed)\n$375\n\n\n*Kalyanam Vastram(Pattu Saree) for Sridevi (only one sponsor allowed)\n$375\n\n\n*Mangala Sutram for Bhudevi (only one sponsor allowed)\n$375\n\n\n*Mangala Sutram for Sridevi (only one sponsor allowed)\n$375\n\n\nKalyanam Garlands & Flowers\n$250\n\n\nAnnadanam (Kalyanam Vindu)\n$400\n\n\n\n\n\n\n\nBenefits for Donors\n\n\nParticipation in Kalyanam: All donors will receive Sankalpam and reserved seating during the Kalyanam ceremony.\nCeremonial Kanduva: Sponsors will be honored with a Kanduva before the Kalyanam.\nSpecial Darshan and Blessings: All sponsors will enjoy special darshan and blessings (Aseervadam) inside the Arthamandapam of Lord Sri Venkateswara.\nPrasadam Package: Each sponsor will receive a take-home package containing Prasadam\, Laddu\, and Akshitas.\n*Special Privileges for Vastra Danam\, Mangala Sutras\, Garland\, and Annadanam Donors: These donors will have the esteemed opportunity to participate in Kanyadanam\, Vastra Danam\, and Mangalya Samarpana during the Kalyanam ceremony.\n\n\n Traditional Indian dress (dhoti for men and saree for women) for devotees participating in Srinivasa Kalyanam. Please refer Temple Etiquette for additional details on the dress code. \n\n\n\nBECOME A SPONSOR
URL:https://icctmemphis.org/event/srinivasa-kalyanam-samoohika/
END:VEVENT
BEGIN:VEVENT
DTSTART;TZID=America/Chicago:20260726T110000
DTEND;TZID=America/Chicago:20260726T123000
DTSTAMP:20260420T112159
CREATED:20260117T044019Z
LAST-MODIFIED:20260117T044019Z
UID:9832-1785063600-1785069000@icctmemphis.org
SUMMARY:Naga Devatha Abhishekam
DESCRIPTION:
URL:https://icctmemphis.org/event/naga-devatha-abhishekam-7/
CATEGORIES:Religious (Monthly)
END:VEVENT
BEGIN:VEVENT
DTSTART;TZID=America/Chicago:20260801T110000
DTEND;TZID=America/Chicago:20260801T120000
DTSTAMP:20260420T112159
CREATED:20190827T221356Z
LAST-MODIFIED:20260115T020812Z
UID:9822-1785582000-1785585600@icctmemphis.org
SUMMARY:Navagraha Abhishekam
DESCRIPTION:
URL:https://icctmemphis.org/event/navagraha-abhishekam-8/
CATEGORIES:Religious (Monthly)
END:VEVENT
BEGIN:VEVENT
DTSTART;TZID=America/Chicago:20260801T180000
DTEND;TZID=America/Chicago:20260801T200000
DTSTAMP:20260420T112159
CREATED:20200516T182907Z
LAST-MODIFIED:20260115T013633Z
UID:11584-1785607200-1785614400@icctmemphis.org
SUMMARY:Sankatahara Chaturthi - Ganesha Abhishekam
DESCRIPTION:
URL:https://icctmemphis.org/event/sankatahara-chaturthi-6/
CATEGORIES:Religious (Monthly)
END:VEVENT
BEGIN:VEVENT
DTSTART;TZID=America/Chicago:20260802T090000
DTEND;TZID=America/Chicago:20260802T110000
DTSTAMP:20260420T112159
CREATED:20260117T042349Z
LAST-MODIFIED:20260117T042349Z
UID:17434-1785661200-1785668400@icctmemphis.org
SUMMARY:Rama Abhishekam
DESCRIPTION:
URL:https://icctmemphis.org/event/rama-abhishekam-8/
CATEGORIES:Religious (Monthly)
END:VEVENT
BEGIN:VEVENT
DTSTART;TZID=America/Chicago:20260806T190000
DTEND;TZID=America/Chicago:20260806T210000
DTSTAMP:20260420T112159
CREATED:20210102T193759Z
LAST-MODIFIED:20260115T020138Z
UID:12761-1786042800-1786050000@icctmemphis.org
SUMMARY:Kruthika – Subramanya Abhishekam
DESCRIPTION:
URL:https://icctmemphis.org/event/kruthika-subramanya-abhishekam-8/
CATEGORIES:Religious (Monthly)
END:VEVENT
BEGIN:VEVENT
DTSTART;TZID=America/Chicago:20260810T180000
DTEND;TZID=America/Chicago:20260810T200000
DTSTAMP:20260420T112159
CREATED:20260117T043045Z
LAST-MODIFIED:20260117T043045Z
UID:10215-1786384800-1786392000@icctmemphis.org
SUMMARY:Masa Shivaratri - Shiva Abhishekam
DESCRIPTION:
URL:https://icctmemphis.org/event/masa-shivaratri-shiva-abhishekam-8/
CATEGORIES:Religious (Monthly)
END:VEVENT
BEGIN:VEVENT
DTSTART;VALUE=DATE:20260813
DTEND;VALUE=DATE:20260814
DTSTAMP:20260420T112159
CREATED:20220607T034548Z
LAST-MODIFIED:20260115T024202Z
UID:17428-1786579200-1786665599@icctmemphis.org
SUMMARY:Shravana Masam Starts
DESCRIPTION:
URL:https://icctmemphis.org/event/shravana-masam-starts/
CATEGORIES:Other
END:VEVENT
BEGIN:VEVENT
DTSTART;TZID=America/Chicago:20260814T000000
DTEND;TZID=America/Chicago:20260814T235900
DTSTAMP:20260420T112159
CREATED:20260117T035826Z
LAST-MODIFIED:20260117T035826Z
UID:11624-1786665600-1786751940@icctmemphis.org
SUMMARY:Andal / Bhudevi Jayanthi
DESCRIPTION:
URL:https://icctmemphis.org/event/andal-bhudevi-jayanthi/
CATEGORIES:Religious (Annual)
END:VEVENT
BEGIN:VEVENT
DTSTART;TZID=America/Chicago:20260816T090000
DTEND;TZID=America/Chicago:20260816T110000
DTSTAMP:20260420T112159
CREATED:20260117T040712Z
LAST-MODIFIED:20260117T040712Z
UID:11578-1786870800-1786878000@icctmemphis.org
SUMMARY:Krishna Abhishekam
DESCRIPTION:
URL:https://icctmemphis.org/event/krishna-abhishekam-8/
CATEGORIES:Religious (Monthly)
END:VEVENT
BEGIN:VEVENT
DTSTART;TZID=America/Chicago:20260816T180000
DTEND;TZID=America/Chicago:20260816T200000
DTSTAMP:20260420T112159
CREATED:20200731T230902Z
LAST-MODIFIED:20260115T021819Z
UID:11863-1786903200-1786910400@icctmemphis.org
SUMMARY:Simha Sankramanam - Ayyappa Abhishekam
DESCRIPTION:
URL:https://icctmemphis.org/event/simha-sankramanam-ayyappa-abhishekam-8/
CATEGORIES:Religious (Monthly)
END:VEVENT
BEGIN:VEVENT
DTSTART;TZID=America/Chicago:20260830T110000
DTEND;TZID=America/Chicago:20260830T120000
DTSTAMP:20260420T112159
CREATED:20260117T044028Z
LAST-MODIFIED:20260117T044028Z
UID:10537-1788087600-1788091200@icctmemphis.org
SUMMARY:Naga Devatha Abhishekam
DESCRIPTION:
URL:https://icctmemphis.org/event/naga-devatha-abhishekam-8/
CATEGORIES:Religious (Monthly)
END:VEVENT
BEGIN:VEVENT
DTSTART;TZID=America/Chicago:20260902T180000
DTEND;TZID=America/Chicago:20260902T200000
DTSTAMP:20260420T112159
CREATED:20200823T042146Z
LAST-MODIFIED:20260115T020153Z
UID:11920-1788372000-1788379200@icctmemphis.org
SUMMARY:Kruthika - Subramanya Abhishekam
DESCRIPTION:
URL:https://icctmemphis.org/event/kruthika-subramanya-abhishekam-9/
CATEGORIES:Religious (Monthly)
END:VEVENT
BEGIN:VEVENT
DTSTART;TZID=America/Chicago:20260904T000000
DTEND;TZID=America/Chicago:20260904T235900
DTSTAMP:20260420T112159
CREATED:20260117T040629Z
LAST-MODIFIED:20260117T040629Z
UID:11852-1788480000-1788566340@icctmemphis.org
SUMMARY:Sri Krishna Janmastami Celebrations
DESCRIPTION:
URL:https://icctmemphis.org/event/krishna-janmastami/
CATEGORIES:Religious (Annual)
END:VEVENT
END:VCALENDAR