BEGIN:VCALENDAR
VERSION:2.0
PRODID:-//India Cultural Center and Temple - ECPv6.15.20//NONSGML v1.0//EN
CALSCALE:GREGORIAN
METHOD:PUBLISH
X-ORIGINAL-URL:https://icctmemphis.org
X-WR-CALDESC:Events for India Cultural Center and Temple
REFRESH-INTERVAL;VALUE=DURATION:PT1H
X-Robots-Tag:noindex
X-PUBLISHED-TTL:PT1H
BEGIN:VTIMEZONE
TZID:America/Chicago
BEGIN:DAYLIGHT
TZOFFSETFROM:-0600
TZOFFSETTO:-0500
TZNAME:CDT
DTSTART:20240310T080000
END:DAYLIGHT
BEGIN:STANDARD
TZOFFSETFROM:-0500
TZOFFSETTO:-0600
TZNAME:CST
DTSTART:20241103T070000
END:STANDARD
BEGIN:DAYLIGHT
TZOFFSETFROM:-0600
TZOFFSETTO:-0500
TZNAME:CDT
DTSTART:20250309T080000
END:DAYLIGHT
BEGIN:STANDARD
TZOFFSETFROM:-0500
TZOFFSETTO:-0600
TZNAME:CST
DTSTART:20251102T070000
END:STANDARD
BEGIN:DAYLIGHT
TZOFFSETFROM:-0600
TZOFFSETTO:-0500
TZNAME:CDT
DTSTART:20260308T080000
END:DAYLIGHT
BEGIN:STANDARD
TZOFFSETFROM:-0500
TZOFFSETTO:-0600
TZNAME:CST
DTSTART:20261101T070000
END:STANDARD
BEGIN:DAYLIGHT
TZOFFSETFROM:-0600
TZOFFSETTO:-0500
TZNAME:CDT
DTSTART:20270314T080000
END:DAYLIGHT
BEGIN:STANDARD
TZOFFSETFROM:-0500
TZOFFSETTO:-0600
TZNAME:CST
DTSTART:20271107T070000
END:STANDARD
END:VTIMEZONE
BEGIN:VEVENT
DTSTART;TZID=America/Chicago:20251216T060000
DTEND;TZID=America/Chicago:20260113T080000
DTSTAMP:20260419T185455
CREATED:20191215T093600Z
LAST-MODIFIED:20251202T004406Z
UID:10286-1765864800-1768291200@icctmemphis.org
SUMMARY:Dhanurmasam Puja
DESCRIPTION:
URL:https://icctmemphis.org/event/dhanurmasam-puja/
CATEGORIES:Religious (Annual)
END:VEVENT
BEGIN:VEVENT
DTSTART;TZID=America/Chicago:20251221T070000
DTEND;TZID=America/Chicago:20251221T130000
DTSTAMP:20260419T185455
CREATED:20251202T003315Z
LAST-MODIFIED:20251202T041523Z
UID:44185-1766300400-1766322000@icctmemphis.org
SUMMARY:Ayyappa Sastha Preethi Puja
DESCRIPTION:Register for Sasta Preethi Event
URL:https://icctmemphis.org/event/sastha-preethi-2025/
ATTACH;FMTTYPE=image/jpeg:https://icctmemphis.org/wp-content/uploads/2025/12/SastaPreethi2025-1.jpg
END:VEVENT
BEGIN:VEVENT
DTSTART;TZID=America/Chicago:20251221T090000
DTEND;TZID=America/Chicago:20251221T110000
DTSTAMP:20260419T185455
CREATED:20200120T191748Z
LAST-MODIFIED:20250901T043441Z
UID:10676-1766307600-1766314800@icctmemphis.org
SUMMARY:Rama Abhishekam
DESCRIPTION:
URL:https://icctmemphis.org/event/rama-abhishekam-12/
CATEGORIES:Religious (Monthly)
END:VEVENT
BEGIN:VEVENT
DTSTART;VALUE=DATE:20260101
DTEND;VALUE=DATE:20260102
DTSTAMP:20260419T185455
CREATED:20201227T155430Z
LAST-MODIFIED:20260113T033822Z
UID:12450-1767225600-1767311999@icctmemphis.org
SUMMARY:New Year Day Celebrations
DESCRIPTION:
URL:https://icctmemphis.org/event/new-year-day-celebrations/
CATEGORIES:Religious (Annual)
END:VEVENT
BEGIN:VEVENT
DTSTART;TZID=America/Chicago:20260103T110000
DTEND;TZID=America/Chicago:20260103T120000
DTSTAMP:20260419T185455
CREATED:20200106T184604Z
LAST-MODIFIED:20260113T234517Z
UID:10514-1767438000-1767441600@icctmemphis.org
SUMMARY:Navagraha Abhishekam
DESCRIPTION:
URL:https://icctmemphis.org/event/navagraha-abhishekam-1/
CATEGORIES:Religious (Monthly)
END:VEVENT
BEGIN:VEVENT
DTSTART;TZID=America/Chicago:20260104T090000
DTEND;TZID=America/Chicago:20260104T103000
DTSTAMP:20260419T185455
CREATED:20200106T184647Z
LAST-MODIFIED:20260113T234905Z
UID:10516-1767517200-1767522600@icctmemphis.org
SUMMARY:Krishna Abhishekam
DESCRIPTION:
URL:https://icctmemphis.org/event/krishna-abhishekam-1/
CATEGORIES:Religious (Monthly)
END:VEVENT
BEGIN:VEVENT
DTSTART;TZID=America/Chicago:20260106T180000
DTEND;TZID=America/Chicago:20260106T200000
DTSTAMP:20260419T185455
CREATED:20210304T161443Z
LAST-MODIFIED:20260114T010312Z
UID:13217-1767722400-1767729600@icctmemphis.org
SUMMARY:Sankatahara Chaturthi - Ganesha Abhishekam
DESCRIPTION:
URL:https://icctmemphis.org/event/sankatahara-chaturthi-ganesha-abhishekam-1/
CATEGORIES:Religious (Monthly)
END:VEVENT
BEGIN:VEVENT
DTSTART;TZID=America/Chicago:20260111T090000
DTEND;TZID=America/Chicago:20260111T110000
DTSTAMP:20260419T185455
CREATED:20200120T191705Z
LAST-MODIFIED:20260114T010138Z
UID:10674-1768122000-1768129200@icctmemphis.org
SUMMARY:Narasimha Abhishekam
DESCRIPTION:
URL:https://icctmemphis.org/event/narasimha-abhishekam-2/
CATEGORIES:Religious (Monthly)
END:VEVENT
BEGIN:VEVENT
DTSTART;VALUE=DATE:20260112
DTEND;VALUE=DATE:20260115
DTSTAMP:20260419T185455
CREATED:20201230T213333Z
LAST-MODIFIED:20260113T033306Z
UID:12628-1768176000-1768435199@icctmemphis.org
SUMMARY:Makara Sankranti / Bhogi / Lohri
DESCRIPTION:
URL:https://icctmemphis.org/event/makara-sankranti-bhogi-lohiri/
CATEGORIES:Religious (Annual)
END:VEVENT
BEGIN:VEVENT
DTSTART;VALUE=DATE:20260113
DTEND;VALUE=DATE:20260114
DTSTAMP:20260419T185455
CREATED:20240115T221607Z
LAST-MODIFIED:20260114T012423Z
UID:30778-1768262400-1768348799@icctmemphis.org
SUMMARY:Shattila Ekadasi
DESCRIPTION:
URL:https://icctmemphis.org/event/shattila-ekadasi/
CATEGORIES:Other
END:VEVENT
BEGIN:VEVENT
DTSTART;TZID=America/Chicago:20260116T180000
DTEND;TZID=America/Chicago:20260116T200000
DTSTAMP:20260419T185455
CREATED:20201230T212649Z
LAST-MODIFIED:20260114T010831Z
UID:12626-1768586400-1768593600@icctmemphis.org
SUMMARY:Masa Shivaratri - Shiva Abhishekam
DESCRIPTION:
URL:https://icctmemphis.org/event/masa-shivaratri-shiva-abhishekam-1/
CATEGORIES:Religious (Monthly)
END:VEVENT
BEGIN:VEVENT
DTSTART;TZID=America/Chicago:20260118T090000
DTEND;TZID=America/Chicago:20260118T110000
DTSTAMP:20260419T185455
CREATED:20200516T183647Z
LAST-MODIFIED:20260114T010013Z
UID:11594-1768726800-1768734000@icctmemphis.org
SUMMARY:Rama Abhishekam
DESCRIPTION:
URL:https://icctmemphis.org/event/rama-abhishekam-1/
CATEGORIES:Religious (Monthly)
END:VEVENT
BEGIN:VEVENT
DTSTART;VALUE=DATE:20260119
DTEND;VALUE=DATE:20260120
DTSTAMP:20260419T185455
CREATED:20200106T185022Z
LAST-MODIFIED:20260114T010921Z
UID:10526-1768780800-1768867199@icctmemphis.org
SUMMARY:Magha Masam Starts
DESCRIPTION:
URL:https://icctmemphis.org/event/magha-masam-starts/
CATEGORIES:Other
END:VEVENT
BEGIN:VEVENT
DTSTART;VALUE=DATE:20260123
DTEND;VALUE=DATE:20260124
DTSTAMP:20260419T185455
CREATED:20210109T181659Z
LAST-MODIFIED:20260113T033443Z
UID:13022-1769126400-1769212799@icctmemphis.org
SUMMARY:Vasant Panchami
DESCRIPTION:
URL:https://icctmemphis.org/event/vasant-panchami/
CATEGORIES:Religious (Annual)
END:VEVENT
BEGIN:VEVENT
DTSTART;TZID=America/Chicago:20260124T180000
DTEND;TZID=America/Chicago:20260124T193000
DTSTAMP:20260419T185455
CREATED:20200823T042533Z
LAST-MODIFIED:20260114T010459Z
UID:11932-1769277600-1769283000@icctmemphis.org
SUMMARY:Shashti - Subramanya Abhishekam
DESCRIPTION:
URL:https://icctmemphis.org/event/shashti-subramanya-abhishekam-9/
CATEGORIES:Religious (Monthly)
END:VEVENT
BEGIN:VEVENT
DTSTART;TZID=America/Chicago:20260125T103000
DTEND;TZID=America/Chicago:20260125T113000
DTSTAMP:20260419T185455
CREATED:20200106T185539Z
LAST-MODIFIED:20260114T010656Z
UID:10532-1769337000-1769340600@icctmemphis.org
SUMMARY:Ratha Saptami
DESCRIPTION:
URL:https://icctmemphis.org/event/ratha-saptami/
CATEGORIES:Religious (Annual)
END:VEVENT
BEGIN:VEVENT
DTSTART;TZID=America/Chicago:20260127T180000
DTEND;TZID=America/Chicago:20260127T200000
DTSTAMP:20260419T185455
CREATED:20200516T183138Z
LAST-MODIFIED:20260114T010540Z
UID:11590-1769536800-1769544000@icctmemphis.org
SUMMARY:Kruthika - Subramanya Abhishekam
DESCRIPTION:
URL:https://icctmemphis.org/event/kruthika-subramanya-abhishekam-1/
CATEGORIES:Religious (Monthly)
END:VEVENT
BEGIN:VEVENT
DTSTART;VALUE=DATE:20260128
DTEND;VALUE=DATE:20260129
DTSTAMP:20260419T185455
CREATED:20240115T222436Z
LAST-MODIFIED:20260114T215641Z
UID:30784-1769558400-1769644799@icctmemphis.org
SUMMARY:Bhishma / Jaya / Bhaimi Ekadasi
DESCRIPTION:
URL:https://icctmemphis.org/event/bhishma-ekadasi/
CATEGORIES:Other
END:VEVENT
BEGIN:VEVENT
DTSTART;TZID=America/Chicago:20260201T090000
DTEND;TZID=America/Chicago:20260201T110000
DTSTAMP:20260419T185455
CREATED:20200120T191213Z
LAST-MODIFIED:20260113T234832Z
UID:10664-1769936400-1769943600@icctmemphis.org
SUMMARY:Krishna Abhishekam
DESCRIPTION:
URL:https://icctmemphis.org/event/krishna-abhishekam-2/
CATEGORIES:Religious (Monthly)
END:VEVENT
BEGIN:VEVENT
DTSTART;TZID=America/Chicago:20260204T180000
DTEND;TZID=America/Chicago:20260204T200000
DTSTAMP:20260419T185455
CREATED:20260117T020958Z
LAST-MODIFIED:20260117T020958Z
UID:12304-1770228000-1770235200@icctmemphis.org
SUMMARY:Sankatahara Chaturthi - Ganesha Abhishekam
DESCRIPTION:
URL:https://icctmemphis.org/event/sankatahara-chaturthi-ganesha-abhishekam-2/
CATEGORIES:Religious (Monthly)
END:VEVENT
BEGIN:VEVENT
DTSTART;TZID=America/Chicago:20260207T110000
DTEND;TZID=America/Chicago:20260207T120000
DTSTAMP:20260419T185455
CREATED:20200120T194344Z
LAST-MODIFIED:20260113T234506Z
UID:10690-1770462000-1770465600@icctmemphis.org
SUMMARY:Navagraha Abhishekam
DESCRIPTION:
URL:https://icctmemphis.org/event/navagraha-abhishekam-2/
CATEGORIES:Religious (Monthly)
END:VEVENT
BEGIN:VEVENT
DTSTART;TZID=America/Chicago:20260207T110000
DTEND;TZID=America/Chicago:20260207T140000
DTSTAMP:20260419T185455
CREATED:20231224T152413Z
LAST-MODIFIED:20260113T034124Z
UID:29800-1770462000-1770472800@icctmemphis.org
SUMMARY:Koil Alwar Thirumanjanam
DESCRIPTION:
URL:https://icctmemphis.org/event/koil-alwar-thirumanjanam-shivaratri/
END:VEVENT
BEGIN:VEVENT
DTSTART;TZID=America/Chicago:20260208T090000
DTEND;TZID=America/Chicago:20260208T110000
DTSTAMP:20260419T185455
CREATED:20200301T172607Z
LAST-MODIFIED:20260113T235359Z
UID:10901-1770541200-1770548400@icctmemphis.org
SUMMARY:Narasimha Abhishekam
DESCRIPTION:
URL:https://icctmemphis.org/event/narasimha-abhishekam-2-2/
CATEGORIES:Religious (Monthly)
END:VEVENT
BEGIN:VEVENT
DTSTART;VALUE=DATE:20260212
DTEND;VALUE=DATE:20260213
DTSTAMP:20260419T185455
CREATED:20260114T215858Z
LAST-MODIFIED:20260114T215858Z
UID:45654-1770854400-1770940799@icctmemphis.org
SUMMARY:Vijaya Ekadasi
DESCRIPTION:
URL:https://icctmemphis.org/event/vijaya-ekadasi/
CATEGORIES:Other
END:VEVENT
BEGIN:VEVENT
DTSTART;TZID=America/Chicago:20260212T180000
DTEND;TZID=America/Chicago:20260212T200000
DTSTAMP:20260419T185455
CREATED:20200120T191635Z
LAST-MODIFIED:20260114T011942Z
UID:10672-1770919200-1770926400@icctmemphis.org
SUMMARY:Kumbha Sankramanam - Ayyappa Abhishekam
DESCRIPTION:
URL:https://icctmemphis.org/event/kumbha-sankramanam-ayyappa-abhishekam-2/
CATEGORIES:Religious (Monthly)
END:VEVENT
BEGIN:VEVENT
DTSTART;VALUE=DATE:20260213
DTEND;VALUE=DATE:20260219
DTSTAMP:20260419T185455
CREATED:20200120T193006Z
LAST-MODIFIED:20260113T034320Z
UID:10684-1770940800-1771459199@icctmemphis.org
SUMMARY:Maha Shivaratri Celebrations
DESCRIPTION:
URL:https://icctmemphis.org/event/maha-shivaratri-celebrations/
CATEGORIES:Religious (Annual)
END:VEVENT
BEGIN:VEVENT
DTSTART;TZID=America/Chicago:20260215T090000
DTEND;TZID=America/Chicago:20260215T110000
DTSTAMP:20260419T185455
CREATED:20191104T005724Z
LAST-MODIFIED:20260113T235652Z
UID:10205-1771146000-1771153200@icctmemphis.org
SUMMARY:Bhudevi Abhishekam
DESCRIPTION:
URL:https://icctmemphis.org/event/bhudevi-abhishekam-2/
CATEGORIES:Religious (Monthly)
END:VEVENT
BEGIN:VEVENT
DTSTART;VALUE=DATE:20260217
DTEND;VALUE=DATE:20260218
DTSTAMP:20260419T185455
CREATED:20190225T012309Z
LAST-MODIFIED:20260114T012152Z
UID:8489-1771286400-1771372799@icctmemphis.org
SUMMARY:Phalguna Masam Starts
DESCRIPTION:
URL:https://icctmemphis.org/event/phalguna-masam-starts/
CATEGORIES:Other
END:VEVENT
BEGIN:VEVENT
DTSTART;TZID=America/Chicago:20260220T180000
DTEND;TZID=America/Chicago:20260220T200000
DTSTAMP:20260419T185455
CREATED:20200120T193108Z
LAST-MODIFIED:20260113T034431Z
UID:10686-1771610400-1771617600@icctmemphis.org
SUMMARY:Bodhyana Srikanta Shivacharya Jayanthi
DESCRIPTION:
URL:https://icctmemphis.org/event/bodhyana-srikanta-shivacharya-jayanthi/
CATEGORIES:Religious (Annual)
END:VEVENT
BEGIN:VEVENT
DTSTART;TZID=America/Chicago:20260222T090000
DTEND;TZID=America/Chicago:20260222T103000
DTSTAMP:20260419T185455
CREATED:20200516T185225Z
LAST-MODIFIED:20260113T235746Z
UID:11616-1771750800-1771756200@icctmemphis.org
SUMMARY:Rama Abhishekam
DESCRIPTION:
URL:https://icctmemphis.org/event/rama-abhishekam-2/
CATEGORIES:Religious (Monthly)
END:VEVENT
END:VCALENDAR