BEGIN:VCALENDAR
VERSION:2.0
PRODID:-//India Cultural Center and Temple - ECPv6.15.20//NONSGML v1.0//EN
CALSCALE:GREGORIAN
METHOD:PUBLISH
X-ORIGINAL-URL:https://icctmemphis.org
X-WR-CALDESC:Events for India Cultural Center and Temple
REFRESH-INTERVAL;VALUE=DURATION:PT1H
X-Robots-Tag:noindex
X-PUBLISHED-TTL:PT1H
BEGIN:VTIMEZONE
TZID:America/Chicago
BEGIN:DAYLIGHT
TZOFFSETFROM:-0600
TZOFFSETTO:-0500
TZNAME:CDT
DTSTART:20240310T080000
END:DAYLIGHT
BEGIN:STANDARD
TZOFFSETFROM:-0500
TZOFFSETTO:-0600
TZNAME:CST
DTSTART:20241103T070000
END:STANDARD
BEGIN:DAYLIGHT
TZOFFSETFROM:-0600
TZOFFSETTO:-0500
TZNAME:CDT
DTSTART:20250309T080000
END:DAYLIGHT
BEGIN:STANDARD
TZOFFSETFROM:-0500
TZOFFSETTO:-0600
TZNAME:CST
DTSTART:20251102T070000
END:STANDARD
BEGIN:DAYLIGHT
TZOFFSETFROM:-0600
TZOFFSETTO:-0500
TZNAME:CDT
DTSTART:20260308T080000
END:DAYLIGHT
BEGIN:STANDARD
TZOFFSETFROM:-0500
TZOFFSETTO:-0600
TZNAME:CST
DTSTART:20261101T070000
END:STANDARD
END:VTIMEZONE
BEGIN:VEVENT
DTSTART;VALUE=DATE:20250604
DTEND;VALUE=DATE:20250609
DTSTAMP:20260422T064933
CREATED:20200305T194220Z
LAST-MODIFIED:20250521T032311Z
UID:11090-1748995200-1749427199@icctmemphis.org
SUMMARY:31st Anniversary Celebrations
DESCRIPTION:
URL:https://icctmemphis.org/event/anniversary-celebrations/
CATEGORIES:Religious (Annual)
END:VEVENT
BEGIN:VEVENT
DTSTART;TZID=America/Chicago:20250622T100000
DTEND;TZID=America/Chicago:20250622T120000
DTSTAMP:20260422T064933
CREATED:20190530T220511Z
LAST-MODIFIED:20250521T033631Z
UID:9477-1750586400-1750593600@icctmemphis.org
SUMMARY:Maha Sudarshana Homam
DESCRIPTION:
URL:https://icctmemphis.org/event/sudarshana-homam/
CATEGORIES:Religious (Annual)
END:VEVENT
BEGIN:VEVENT
DTSTART;TZID=America/Chicago:20250629T110000
DTEND;TZID=America/Chicago:20250629T123000
DTSTAMP:20260422T064933
CREATED:20210319T185521Z
LAST-MODIFIED:20250517T155543Z
UID:13355-1751194800-1751200200@icctmemphis.org
SUMMARY:Naga Devatha Abhishekam
DESCRIPTION:
URL:https://icctmemphis.org/event/naga-devatha-abhishekam-10/
CATEGORIES:Religious (Monthly)
END:VEVENT
END:VCALENDAR